BEGIN:VCALENDAR
VERSION:2.0
PRODID:-//wp-events-plugin.com//7.2.3.1//EN
BEGIN:VEVENT
UID:21@platu25.com
DTSTART:20260326T210000Z
DTEND:20260328T210000Z
DTSTAMP:20260226T082954Z
URL:https://platu25.com/events/greek-world-series-2026-at-athens-riviera/
SUMMARY:Greek world series 2026 at Athens riviera 
DESCRIPTION:The No78 ( www.no78.gr) is hosting the first world series for 2
 026 27-29/3/2026
ATTACH;FMTTYPE=image/jpeg:https://platu25.com/wp-content/uploads/2023/04/W
 S.GRE_.2.png
LOCATION:http://www.no78.gr
END:VEVENT
END:VCALENDAR